BEGIN:VCALENDAR
VERSION:2.0
PRODID:-//ChamberMaster//Event Calendar 2.0//EN
METHOD:PUBLISH
X-PUBLISHED-TTL:P3D
REFRESH-INTERVAL:P3D
CALSCALE:GREGORIAN
BEGIN:VEVENT
DTSTART:20160830T123000Z
DTEND:20160830T141500Z
X-MICROSOFT-CDO-ALLDAYEVENT:FALSE
SUMMARY:A-ROI GROUP presents\, "Human Resources: Improving Business Owners' Bottom Line"
DESCRIPTION:Attention Business Owners & Advisors!\n \n\nPlease join us as a-roi group presents:\n\nHUMAN RESOURCES: IMPROVING BUSINESS OWNERS' BOTTOM LINE \n\nLearn why human resources impacts the bottom line more than any other function in a business:\n\n\n	\n	Compliance\, Performance Management\, Recruitment and Retention\, Compensation Management\, and Employee Development\n	\n\n\nSchedule:\n\n8:30 am- 8:45 am: Sign In\, Coffee & Pastries \n\n8:45 am- 10:15 am: Program & Q&A\n\n10:15 am-10:45 am: Extra Time For More Individual Discussions \n\nClick here to RSVP: https://www.eventbrite.com/e/human-resources-improving-business-owners-bottom-line-tickets-26830482696\n\nGuest Speaker will be a-roi group's HR partner Bob Floreak\, with Acuity Human Resources \n\nDo Not Miss This Important Educational Opportunity! Why?\n\nGovernment changes\, lawsuits\, audits. Are You Prepared?\n\n\n	\n	Deadline for RSVP's is Tuesday August 23rd! If RSVP'ing after deadline\, contact Melissa Varner direct at mvarner@a-roigroup.com. \n	\n	\n	Event is located at the Better Business Bureau of Akron. Free to attend \n	\n	\n	Event will be held in classroom located on the lower level of the BBB. Parking is available in rear of building. Please ring bell inside front door to gain access.
X-ALT-DESC;FMTTYPE=text/html:<h2>Attention&nbsp\;Business Owners &amp\; Advisors!</h2>\n&nbsp\;\n\n<h3>Please join us as&nbsp\;<strong>a-roi group</strong>&nbsp\;presents:</h3>\n\n<p>HUMAN RESOURCES: IMPROVING BUSINESS OWNERS&#39\; BOTTOM LINE&nbsp\;</p>\n\n<p>Learn why human resources impacts the bottom line more than any other function in a business:</p>\n\n<ul>\n	<li>\n	<p>Compliance\, Performance Management\, Recruitment and Retention\, Compensation Management\, and Employee Development</p>\n	</li>\n</ul>\n\n<p><strong>Schedule:</strong></p>\n\n<p>8:30 am- 8:45 am: Sign In\, Coffee &amp\; Pastries&nbsp\;</p>\n\n<p>8:45 am- 10:15 am: Program &amp\; Q&amp\;A</p>\n\n<p>10:15 am-10:45 am: Extra Time For More Individual Discussions&nbsp\;</p>\n\n<p><span style="font-size:14px"><strong>Click here to RSVP</strong></span>:&nbsp\;<a href="https://www.eventbrite.com/e/human-resources-improving-business-owners-bottom-line-tickets-26830482696">https://www.eventbrite.com/e/human-resources-improving-business-owners-bottom-line-tickets-26830482696</a></p>\n\n<p>Guest Speaker will be a-roi group&#39\;s HR partner Bob Floreak\, with Acuity Human Resources<strong>&nbsp\;</strong></p>\n\n<p><strong>Do Not Miss This Important Educational Opportunity! Why?</strong></p>\n\n<p><strong>Government changes\, lawsuits\, audits.&nbsp\;</strong><strong>Are You Prepared?</strong></p>\n\n<ul>\n	<li>\n	<p>Deadline for RSVP&#39\;s is Tuesday August 23rd! If RSVP&#39\;ing after deadline\, contact Melissa Varner direct at mvarner@a-roigroup.com.&nbsp\;</p>\n	</li>\n	<li>\n	<p>Event is located at the Better Business Bureau of Akron. Free to attend&nbsp\;</p>\n	</li>\n	<li>\n	<p>Event will be held in classroom located on the lower level of the BBB. Parking is available in rear of building. Please ring bell inside front door to gain access.&nbsp\;</p>\n	</li>\n</ul>\n
LOCATION:Better Business Bureau of Akron 222 West Market Street Akron\, OH 44303
UID:e.2230.645
SEQUENCE:3
DTSTAMP:20260419T204523Z
URL:https://business.twinsburgchamber.com/events/details/a-roi-group-presents-human-resources-improving-business-owners-bottom-line-08-30-2016-645
END:VEVENT

END:VCALENDAR
