BEGIN:VCALENDAR
VERSION:2.0
PRODID:-//ChamberMaster//Event Calendar 2.0//EN
METHOD:PUBLISH
X-PUBLISHED-TTL:P3D
REFRESH-INTERVAL:P3D
CALSCALE:GREGORIAN
BEGIN:VEVENT
DTSTART:20170525T113000Z
DTEND:20170525T130000Z
X-MICROSOFT-CDO-ALLDAYEVENT:FALSE
SUMMARY:A Proactive Approach to Building a Sustainable Talent Pipeline Workshop
DESCRIPTION:REGISTER HERE! \n\n\n\nA Proactive Approach to Building a Sustainable Talent Pipeline\n\n\n\nWouldn't you like to know how to create a sustainable pipeline of external and internal talent?\n\n\n\nBuilding a talent pipeline is no longer confined to succession planning for leaders. As a manufacturer\, you are challenged with finding skilled talent at all levels of your organization\, including your frontline workforce. You have a set of critical jobs that support the core of your business\, which makes building a readied pipeline of talent   internal and external   essential. Companies that cannot 'get' or 'keep' the right people in critical jobs are jeopardizing their ability to achieve their short-term and long-term business goals   revenue growth\, product innovation\, operational excellence\, market expansion\, competitive advantage.\n\n\n\nDuring this event\, we will examine proactive solutions that define\, attract\, and develop the right mix of critical talent needed to support and grow your business. This proactive approach involves:\n\n\n	Assessing and aligning the availability of talent (internal and external) with business objectives\n	Identifying and closing gaps between current and future talent needs\n	Proven practices for acquiring or developing talent to address the need\n	Developing a plan of action for building a sustainable talent pipeline \n\n\nDonna D. Rhodes\, MSODA\, SPHR \, SHRM-SCP \n\nSr. Business Consultant\, PRISM/Workforce & Talent Development\n\nMAGNET: The Manufacturing Advocacy and Growth Network
X-ALT-DESC;FMTTYPE=text/html:<h3 style="padding:0px\;font-size:12px\;line-height:18px\;color:rgb(40\, 44\, 53)\;text-transform:uppercase\;font-family:Benton Sans\, Helvetica Neue\, Helvetica\, Roboto\, Arial\, sans-serif\;letter-spacing:0.5px\;"><br />\n<a href="https://www.eventbrite.com/e/talent-planning-registration-32932984443" target="_blank"><strong><span style="font-size:20px\;"><span style="font-family:arial\;">REGISTER HERE!</span></span></strong></a>&nbsp\;<br />\n<br />\n<span style="font-size:16px\;"><span style="font-family:arial\;"><span style="color:#000080\;"><strong><span style="padding-top:0px\;">A Proactive Approach to Building a Sustainable Talent Pipeline</span></strong></span></span></span></h3>\n\n<div data-xd-wired="read-more" dorsal-guid="99e1d106-91aa-a89d-adfb-c7e262b643cb" style="padding:0px\;color:rgb(69\, 73\, 78)\;font-family:Benton Sans\, Helvetica Neue\, Helvetica\, Roboto\, Arial\, sans-serif\;font-size:15px\;letter-spacing:0.5px\;">\n<div style="padding:0px\;overflow:hidden\;position:relative\;">\n<div style="margin:15px 0px 0px\;padding:0px\;"><span style="font-size:14px\;"><span style="font-family:arial\;"><em style="padding-top:0px\;">Wouldn&rsquo\;t you like to know how to create a sustainable pipeline of external and internal talent?</em><br />\n<br />\n<span style="padding-top:0px\;">Building a talent pipeline is no longer confined to succession planning for leaders. As a manufacturer\, you are challenged with finding skilled talent at all levels of your organization\, including your frontline workforce. You have a set of critical jobs that support the core of your business\, which makes building a readied pipeline of talent &ndash\; internal and external &ndash\; essential. Companies that cannot &lsquo\;get&rsquo\; or &lsquo\;keep&rsquo\; the right people in critical jobs are jeopardizing their ability to achieve their short-term and long-term business goals &ndash\; revenue growth\, product innovation\, operational excellence\, market expansion\, competitive advantage.</span><br />\n<br />\n<span style="padding-top:0px\;">During this event\, we will examine proactive solutions that define\, attract\, and develop the right mix of critical talent needed to support and grow your business. This proactive approach involves:</span></span></span>\n\n<ul>\n	<li style="padding:0px\;"><span style="font-size:14px\;"><span style="font-family:arial\;">Assessing and aligning the availability of talent (internal and external) with business objectives</span></span></li>\n	<li style="padding:5px 0px 0px\;"><span style="font-size:14px\;"><span style="font-family:arial\;">Identifying and closing gaps between current and future talent needs</span></span></li>\n	<li style="padding:5px 0px 0px\;"><span style="font-size:14px\;"><span style="font-family:arial\;">Proven practices for acquiring or developing talent to address the need</span></span></li>\n	<li style="padding:5px 0px 0px\;"><span style="font-size:14px\;"><span style="font-family:arial\;">Developing a plan of action for building a sustainable talent pipeline </span></span></li>\n</ul>\n\n<hr style="border-right:0px\;border-bottom:0px\;border-left:0px\;border-image:initial\;border-top-style:solid\;height:0px\;" /><span style="font-size:14px\;"><span style="font-family:arial\;">Donna D. Rhodes\, MSODA\, SPHR&reg\;\, SHRM-SCP&#8480\;<br />\n<span style="padding-top:0px\;">Sr. Business Consultant\, PRISM/Workforce &amp\; Talent Development</span><br />\n<span style="padding-top:0px\;">MAGNET:</span>&nbsp\;The Manufacturing Advocacy and Growth Network</span></span><br />\n<br />\n<br />\n&nbsp\;</div>\n</div>\n</div>\n
LOCATION:Twinsburg High School 10084 Ravenna Road Twinsburg\, OH 44087
UID:e.2230.1745
SEQUENCE:3
DTSTAMP:20260420T123914Z
URL:https://business.twinsburgchamber.com/events/details/a-proactive-approach-to-building-a-sustainable-talent-pipeline-workshop-1745
END:VEVENT

END:VCALENDAR
