BEGIN:VCALENDAR
VERSION:2.0
PRODID:-//ChamberMaster//Event Calendar 2.0//EN
METHOD:PUBLISH
X-PUBLISHED-TTL:P3D
REFRESH-INTERVAL:P3D
CALSCALE:GREGORIAN
BEGIN:VEVENT
DTSTART:20161006T210000Z
DTEND:20161007T000000Z
X-MICROSOFT-CDO-ALLDAYEVENT:FALSE
SUMMARY:5th Annual Twinsburg Chamber Community Clambake & Fall Festival
DESCRIPTION:Join the Twinsburg Chamber of Commerce as as we celebrate our 5th Annual Community Clambake & Fall Festival! Live music\, petting zoo\, face painting\, pumpkins\, beer/wine tent\, delicious food and much more! All ages welcome! *All kids activities FREE\n\n\n\nBusiness Sponsorships available! Call the Chamber today at 330-963-6249 or contact Chamber Director\, Abby Fechter at aschroll@twinsburgchamber.com to claim a sponsorship spot for your business!
X-ALT-DESC;FMTTYPE=text/html:<br />\n<strong><span style="font-family: arial\; font-size: 14px\; color: rgb(255\, 102\, 0)\;">Join the Twinsburg Chamber of Commerce as as we celebrate our 5th Annual Community&nbsp\;Clambake &amp\; Fall Festival! Live music\, petting zoo\, face painting\, pumpkins\, beer/wine tent\, delicious food and much more! All ages welcome! </span><span style="color:#FF0000\;"><span style="font-family: arial\; font-size: 14px\;">*All kids activities FREE</span></span></strong><br />\n<br />\n<span style="color:#FF0000\;"><strong><span style="font-family: Arial\; font-size: 14px\; line-height: 21px\; background-color: rgb(255\, 255\, 255)\;"><a href="https://chambermaster.blob.core.windows.net/userfiles/UserFiles/chambers/2230/File/2016ClambakeSponsorships-sponsorsadded9-7-2016.pdf" target="_blank">Business Sponsorships available!</a> Call the Chamber today at 330-963-6249 or contact Chamber Director\, Abby Fechter at <a href="mailto:aschroll@twinsburgchamber.com?subject=2015%20Clambake%20Sponsorships%20">aschroll@twinsburgchamber.com</a> to claim a sponsorship spot for your business!</span></strong></span>
LOCATION:Glenn Chamberlin Park 10260 Ravenna Road
UID:e.2230.1649
SEQUENCE:3
DTSTAMP:20260420T002248Z
URL:https://business.twinsburgchamber.com/events/details/5th-annual-twinsburg-chamber-community-clambake-fall-festival-1649
END:VEVENT

END:VCALENDAR
