BEGIN:VCALENDAR
VERSION:2.0
PRODID:-//ChamberMaster//Event Calendar 2.0//EN
METHOD:PUBLISH
X-PUBLISHED-TTL:P3D
REFRESH-INTERVAL:P3D
CALSCALE:GREGORIAN
BEGIN:VEVENT
DTSTART:20160618T180000Z
DTEND:20160619T000000Z
X-MICROSOFT-CDO-ALLDAYEVENT:FALSE
SUMMARY:3rd Annual Taste of Twinsburg
DESCRIPTION:Booths featuring local restaurants & businesses\, celebrity tent featuring familiar faces from Twinsburg and across northeast Ohio!  Toast at our beer and wine tent.  Kids zone providing fun for the whole family.  The Taste of Twinsburg is FREE!! Visitors only pay for food and drinks. Come hungry and ready for a good time!!\n\n\n\nInterested in having a booth on the Square or becoming a sponsor? Please email\, tasteoftwinsburg@twinsburg.oh.us for more information!
X-ALT-DESC;FMTTYPE=text/html:<span style="font-size:18px\;"><font color="#ff0000"><b>&nbsp\; &nbsp\; &nbsp\; &nbsp\; &nbsp\; &nbsp\; &nbsp\; &nbsp\; &nbsp\; &nbsp\; &nbsp\; &nbsp\; &nbsp\; &nbsp\; &nbsp\; &nbsp\;</b></font></span><br />\n<br />\n<span style="font-size:14px\;"><span style="font-family:arial\;">Booths featuring local restaurants &amp\; businesses\, celebrity tent featuring familiar faces from Twinsburg and across northeast Ohio!&nbsp\; Toast at our beer and wine tent.&nbsp\; Kids zone providing fun for the whole family.&nbsp\; The Taste of Twinsburg is FREE!! Visitors only pay for food and drinks. Come hungry and ready for a good time!!</span><br />\n<br />\nInterested in having a booth on the Square or becoming a sponsor? Please email\,&nbsp\;<span style="color: rgb(34\, 34\, 34)\; font-family: arial\, sans-serif\; background-color: rgb(255\, 255\, 255)\;"><a href="mailto:tasteoftwinsburg@twinsburg.oh.us?subject=Taste%20of%20Twinsburg%20Booth%20and%20Sponsor%20Information%20">tasteoftwinsburg@twinsburg.oh.us</a> for more information!</span></span>
LOCATION:Twinsburg Township Square 9044 Church Street Twinsburg\, OH 44087
UID:e.2230.324
SEQUENCE:3
DTSTAMP:20260419T172628Z
URL:https://business.twinsburgchamber.com/events/details/3rd-annual-taste-of-twinsburg-06-18-2016-324
END:VEVENT

END:VCALENDAR
