BEGIN:VCALENDAR
VERSION:2.0
PRODID:-//ChamberMaster//Event Calendar 2.0//EN
METHOD:PUBLISH
X-PUBLISHED-TTL:P3D
REFRESH-INTERVAL:P3D
CALSCALE:GREGORIAN
BEGIN:VEVENT
DTSTART:20161019T153000Z
DTEND:20161019T170000Z
X-MICROSOFT-CDO-ALLDAYEVENT:FALSE
SUMMARY:3Chamber October Luncheon with Featured Speaker\, Ohio Attorney General\, Mike DeWine
DESCRIPTION:Mike has served as an Ohio State Senator\, as a Member of the U.S. House of Representatives\, as Ohio Lieutenant Governor\, and as a U.S. Senator.  Ohio Attorney General Mike DeWine's office helps support economic growth by working to ensure that the state's legal climate promotes job growth for Ohioans. The Attorney General's Office advocates for business interests in court\, helps protect small business from fraud\, scams and unfair practices\, and has published a free manual explaining the legal framework for economic development.
X-ALT-DESC;FMTTYPE=text/html:<br />\n<span style="font-family:arial\;">&nbsp\;<br />\n<span style="font-weight:bold\;text-transform:uppercase\;language:en-US\;"><span style="color:#4D4D4D\;"><span style="font-size:12.0pt\;">Mike has served as an Ohio State Senator\, as a Member of the U.S. House of Representatives\, as Ohio Lieutenant Governor\, and as a U.S. Senator.&nbsp\; Ohio Attorney General Mike DeWine&rsquo\;s office helps support economic growth by working to ensure that the state&rsquo\;s legal climate promotes job growth for Ohioans. The Attorney General&rsquo\;s Office advocates for business interests in court\, helps protect small business from fraud\, scams and unfair practices\, and has published a free manual explaining the legal framework for economic development. </span></span></span></span><br />\n&nbsp\;<br />\n&nbsp\;
LOCATION:Signature of Solon 39000 Signature Drive Solon\, OH 44139
UID:e.2230.1668
SEQUENCE:3
DTSTAMP:20260420T001609Z
URL:https://business.twinsburgchamber.com/events/details/3chamber-october-luncheon-with-featured-speaker-ohio-attorney-general-mike-dewine-1668
END:VEVENT

END:VCALENDAR
