BEGIN:VCALENDAR
VERSION:2.0
PRODID:-//ChamberMaster//Event Calendar 2.0//EN
METHOD:PUBLISH
X-PUBLISHED-TTL:P3D
REFRESH-INTERVAL:P3D
CALSCALE:GREGORIAN
BEGIN:VEVENT
DTSTART:20190930T153000Z
DTEND:20190930T170000Z
X-MICROSOFT-CDO-ALLDAYEVENT:FALSE
SUMMARY:3Chamber October Luncheon featuring Ohio Attorney General Dave Yost
DESCRIPTION:Join the Twinsburg\, Solon and Aurora Chambers of Commerce for a legal update from Columbus with Ohio Attorney General Dave Yost. \n\n\n\nAttorney General Yost's mission is to protect Ohio's citizens while aggressively fighting corruption across the state.  Battling the state's opioid epidemic is a major focus for his administration. \n\n \n\nSponsored by:\n\nStrachan Novak Insurance\n\nAurora Manor Skilled Nursing & Rehabilitation \n\nHoward Hanna \n\nLiberty Ford Aurora
X-ALT-DESC;FMTTYPE=text/html:<p><br />\n<span style="font-size:14px\;"><span style="font-family:arial\;"><strong>Join the Twinsburg\, Solon and Aurora&nbsp\;Chambers of Commerce for a legal update from Columbus with Ohio Attorney General Dave Yost.&nbsp\;<br />\n<br />\nAttorney General Yost&#39\;s mission is&nbsp\;to protect Ohio&#39\;s citizens while aggressively fighting corruption across the state.&nbsp\; Battling the state&#39\;s opioid epidemic is a major focus for his administration.&nbsp\;</strong></span></span><br />\n&nbsp\;<br />\n<span style="color:#FF0000\;">Sponsored&nbsp\;by:</span></p>\n\n<p><span style="color:#FF0000\;">Strachan Novak Insurance<br />\nAurora Manor Skilled Nursing &amp\; Rehabilitation&nbsp\;<br />\nHoward Hanna&nbsp\;<br />\nLiberty Ford Aurora</span><br />\n<br />\n&nbsp\;</p>\n
LOCATION:Hilton Garden Inn 8971 Wilcox Drive Twinsburg\, OH 44087
UID:e.2230.2205
SEQUENCE:3
DTSTAMP:20260422T144857Z
URL:https://business.twinsburgchamber.com/events/details/3chamber-october-luncheon-featuring-ohio-attorney-general-dave-yost-2205
END:VEVENT

END:VCALENDAR
