BEGIN:VCALENDAR
VERSION:2.0
PRODID:-//ChamberMaster//Event Calendar 2.0//EN
METHOD:PUBLISH
X-PUBLISHED-TTL:P3D
REFRESH-INTERVAL:P3D
CALSCALE:GREGORIAN
BEGIN:VEVENT
DTSTART:20160331T153000Z
DTEND:20160331T171500Z
X-MICROSOFT-CDO-ALLDAYEVENT:FALSE
SUMMARY:3Chamber March Luncheon - 2016 RNC What it Means to the Northeast Ohio Community
DESCRIPTION:Join Twinsburg\, Streetsboro and Kent Chambers of Commerce as we host a March 3Chamber luncheon featuring a presentation by George Brown with the Westfield Group. Learn how the 2016 Republican National Convention will affect Northeast Ohio businesses and how you and your business can be involved!
X-ALT-DESC;FMTTYPE=text/html:<br />\n<span style="font-size:14px\;"><span style="font-family:arial\;">Join Twinsburg\, Streetsboro and Kent Chambers of Commerce as we host a March 3Chamber luncheon<span style="color: rgb(34\, 34\, 34)\; line-height: normal\;">&nbsp\;featuring a presentation by George Brown with the Westfield Group.&nbsp\;</span><span style="color:#000080\;"><span style="font-weight:bold\;language:en-US\;">Learn how the 2016 Republican National Convention will affect Northeast Ohio businesses and how you and your business can be </span><span style="font-weight:bold\;language:en-US\;">involved!</span></span></span></span><br />\n&nbsp\;
LOCATION:Twinsburg Hilton Garden Inn 8971 Wilcox Drive Twinsburg\, OH
UID:e.2230.325
SEQUENCE:3
DTSTAMP:20260419T123608Z
URL:https://business.twinsburgchamber.com/events/details/3chamber-march-luncheon-2016-rnc-what-it-means-to-the-northeast-ohio-community-03-31-2016-325
END:VEVENT

END:VCALENDAR
