BEGIN:VCALENDAR
VERSION:2.0
PRODID:-//ChamberMaster//Event Calendar 2.0//EN
METHOD:PUBLISH
X-PUBLISHED-TTL:P3D
REFRESH-INTERVAL:P3D
CALSCALE:GREGORIAN
BEGIN:VEVENT
DTSTART:20181101T153000Z
DTEND:20181101T170000Z
X-MICROSOFT-CDO-ALLDAYEVENT:FALSE
SUMMARY:3Chamber Fall Luncheon - Blockchain Technology: Concept\, Current Use\, Impacts and Future Potential
DESCRIPTION:Join Twinsburg\, Solon and Aurora Chambers of Commerce as we host our Fall 2018 3Chamber luncheon featuring a presentation by Dr. Gokarna Sharma\, Assistant Professor\, Computer Science\, Kent State Univeristy. \n\n\n\nLearn how Blockchain Technology is growing and why Northeast Ohio is looking to be the gloabl center of excellence for this emerging technology!\n\n\n\nSponsored by Aurora Premium Outlets & Kent State University- Regional Academic Center
X-ALT-DESC;FMTTYPE=text/html:<br />\n<span style="font-size:16px\;"><strong><span style="font-family:arial\;">Join Twinsburg\, Solon and Aurora Chambers of Commerce as we host our Fall 2018 3Chamber luncheon<span style="color: rgb(34\, 34\, 34)\; line-height: normal\;">&nbsp\;featuring a presentation by Dr. Gokarna Sharma\, Assistant Professor\, Computer Science\, Kent State Univeristy.&nbsp\;</span><br />\n<br />\n<span style="color:#000080\;"><span style="font-weight:bold\;language:en-US\;">Learn how Blockchain Technology is growing and why Northeast Ohio is looking to be the gloabl center of excellence for this emerging technology</span><span style="font-weight:bold\;language:en-US\;">!</span></span></span></strong><br />\n<br />\n<span style="color:#800080\;"><strong>Sponsored by Aurora Premium Outlets &amp\; Kent State University- Regional Academic Center&nbsp\;</strong></span></span>
LOCATION:Twinsburg Hilton Garden Inn 8971 Wilcox Drive Twinsburg\, OH
UID:e.2230.2055
SEQUENCE:3
DTSTAMP:20260421T185125Z
URL:https://business.twinsburgchamber.com/events/details/3chamber-fall-luncheon-blockchain-technology-concept-current-use-impacts-and-future-potential-2055
END:VEVENT

END:VCALENDAR
