BEGIN:VCALENDAR
VERSION:2.0
PRODID:-//ChamberMaster//Event Calendar 2.0//EN
METHOD:PUBLISH
X-PUBLISHED-TTL:P3D
REFRESH-INTERVAL:P3D
CALSCALE:GREGORIAN
BEGIN:VEVENT
DTSTART:20180814T153000Z
DTEND:20180814T171500Z
X-MICROSOFT-CDO-ALLDAYEVENT:FALSE
SUMMARY:3Chamber August Luncheon with Featured Speaker\, Congressman David Joyce
DESCRIPTION:Join Congressman David Joyce and your local Chambers of Commerce for an update from Washington\, D.C. during this important time in our country's history. \n\n \n\nSponsored  by:\n\nMilia Marketing\n\nHoward Hanna\n\nChannel
X-ALT-DESC;FMTTYPE=text/html:<p><br />\n<span style="font-size:14px\;"><span style="font-family:arial\;"><strong>Join Congressman David Joyce and your local Chambers of Commerce for an update from Washington\, D.C. during this important time in our country&#39\;s history.</strong>&nbsp\;</span></span><br />\n&nbsp\;<br />\n<span style="color:#FF0000\;">Sponsored&nbsp\; by:</span></p>\n\n<p><span style="color:#0000CD\;">Milia Marketing<br />\nHoward Hanna<br />\nChannel&nbsp\;</span><br />\n&nbsp\;</p>\n
LOCATION:Signature of Solon 39000 Signature Dr Solon\, OH 44139
UID:e.2230.2033
SEQUENCE:3
DTSTAMP:20260421T134501Z
URL:https://business.twinsburgchamber.com/events/details/3chamber-august-luncheon-with-featured-speaker-congressman-david-joyce-2033
END:VEVENT

END:VCALENDAR
