BEGIN:VCALENDAR
VERSION:2.0
PRODID:-//ChamberMaster//Event Calendar 2.0//EN
METHOD:PUBLISH
X-PUBLISHED-TTL:P3D
REFRESH-INTERVAL:P3D
CALSCALE:GREGORIAN
BEGIN:VEVENT
DTSTART:20160421T153000Z
DTEND:20160421T171500Z
X-MICROSOFT-CDO-ALLDAYEVENT:FALSE
SUMMARY:3Chamber April Luncheon with Featured Speaker\, Matt Fish CEO & Co-Owner of Melt Bar & Grilled!
DESCRIPTION:Join Twinsburg\, Solon and Aurora Chambers of Commerce as we host our April 3Chamber Luncheon with Featured Speaker\, Matt Fish\, CEO and Co-Owner of Melt Bar and Grilled! A professional local chef for 18 years and counting\, Matt planned to open his own restaurant for quite a while. His concept for Melt a combination of "comfort food dressed up\," and beer started from a fairly simple idea: he was always a big grilled cheese fan. Come hear the Melt story and how it  has become one of the top restaurants in Cleveland!
X-ALT-DESC;FMTTYPE=text/html:<br />\n<span style="font-size:14px\;"><span style="font-family:arial\;">Join Twinsburg\, Solon and Aurora&nbsp\;Chambers of Commerce as we host our April 3Chamber Luncheon<span style="color: rgb(34\, 34\, 34)\; line-height: normal\;">&nbsp\;with Featured Speaker\, Matt Fish\, CEO and Co-Owner of Melt Bar and Grilled!&nbsp\;</span>A professional local chef for 18 years and counting\, Matt planned to open his own restaurant for quite a while. His concept for Melt&mdash\;a combination of &ldquo\;comfort food dressed up\,&rdquo\; and beer&mdash\;started from a fairly simple idea: he was always a big grilled cheese fan. Come hear the Melt story and how it&nbsp\; has become one of the top restaurants in Cleveland!<br />\n&nbsp\;</span></span>
LOCATION:The Twinsburg Hilton Garden Inn 8971 Wilcox Drive Twinsburg\, OH 44087
UID:e.2230.358
SEQUENCE:3
DTSTAMP:20260419T141344Z
URL:https://business.twinsburgchamber.com/events/details/3chamber-april-luncheon-with-featured-speaker-matt-fish-ceo-co-owner-of-melt-bar-grilled-04-21-2016-358
END:VEVENT

END:VCALENDAR
