BEGIN:VCALENDAR
VERSION:2.0
PRODID:-//ChamberMaster//Event Calendar 2.0//EN
METHOD:PUBLISH
X-PUBLISHED-TTL:P3D
REFRESH-INTERVAL:P3D
CALSCALE:GREGORIAN
BEGIN:VEVENT
DTSTART:20180411T153000Z
DTEND:20180411T170000Z
X-MICROSOFT-CDO-ALLDAYEVENT:FALSE
SUMMARY:3Chamber April Luncheon "Treating Addiction as a Chronic Disease"
DESCRIPTION:Join Twinsburg\, Solon and Aurora Chambers of Commerce as we host our April 3Chamber Luncheon "Treating Addiction as a Chronic Disease" with Featured Speaker\, Renee Klaric\, Program Manager for University Hospitals Addiction Services. \n\n\n\nRenee Klaric is a Licensed Professional Clinical Counselor\, Licensed Impendent Chemical Dependency Counselor and a Clinical Supervisor.  She has spent most of her career improving the services that patients receive in diverse healthcare settings both as a practitioner and a business person.  Her experience in program creation\, development and implementation has brought her to this opportunity with University Hospitals to offer a new and much needed modern perspective of treating addiction as a chronic disease.\n\n\n\nSPONSORED BY\n\nVMS (VISUAL MARKING SYSTEMS)
X-ALT-DESC;FMTTYPE=text/html:<br />\n<span style="font-size:14px\;"><span style="font-family:arial\;">Join Twinsburg\, Solon and Aurora&nbsp\;Chambers of Commerce as we host our April 3Chamber Luncheon<span style="color: rgb(34\, 34\, 34)\; line-height: normal\;">&nbsp\;&quot\;Treating Addiction as a Chronic Disease&quot\; with Featured Speaker\, Renee Klaric\, Program Manager for University Hospitals Addiction Services.&nbsp\;<br />\n<br />\nRenee Klaric&nbsp\;is a Licensed Professional Clinical Counselor\, Licensed Impendent Chemical Dependency&nbsp\;Counselor and a Clinical Supervisor.&nbsp\; She has spent most of her career improving the services that patients receive in diverse healthcare settings both as a practitioner and a business person.&nbsp\; Her experience in program creation\, development and implementation has brought her to this opportunity with University Hospitals to offer a new and much needed modern perspective of treating addiction as a chronic disease.</span><br />\n<br />\n<span style="font-size:16px\;"><strong><span style="color:#FF0000\;"><span style="line-height: normal\;">SPONSORED BY</span></span></strong></span></span></span><br />\n<span style="font-size:16px\;"><strong>VMS (VISUAL MARKING SYSTEMS)</strong></span>
LOCATION:The Bertram Inn & Conference Center 600 North Aurora Road Aurora\, OH 44202-7107
UID:e.2230.1788
SEQUENCE:3
DTSTAMP:20260421T091941Z
URL:https://business.twinsburgchamber.com/events/details/3chamber-april-luncheon-treating-addiction-as-a-chronic-disease-1788
END:VEVENT

END:VCALENDAR
