BEGIN:VCALENDAR
VERSION:2.0
PRODID:-//ChamberMaster//Event Calendar 2.0//EN
METHOD:PUBLISH
X-PUBLISHED-TTL:P3D
REFRESH-INTERVAL:P3D
CALSCALE:GREGORIAN
BEGIN:VEVENT
DTSTART:20170425T153000Z
DTEND:20170425T170000Z
X-MICROSOFT-CDO-ALLDAYEVENT:FALSE
SUMMARY:3Chamber April Luncheon "The State of Manufacturing in NEO"
DESCRIPTION:Speaker: Linda Barita\, Director of Strategic Alliances (MAGNET)\n\n \n\nManufacturing is the second largest private sector employer in Northeast Ohio - second only to healthcare. It's important to keep on top of what keeps our region growing. Linda will cover issues that will help manufacturers grow their business - and that is good news for all of us.\n\n \n\n About the Speaker: Linda Barita is the Director of Strategic Alliances for MAGNET and is an expert in business development as well as workforce\, sales\, and product management. She worked for BP Oil for 13 years\, followed by work at GrafTech for 5\, finally ending up at MAGNET for the past 9. That gives her over 25 years of industry experience ranging from positions in marketing\, sales\, product development and more.\n\n \n\nLinda is a graduate from Youngstown State University\, is on the Board for the Cleveland Engineering Society\, Regional Board seat for Women in Manufacturing\, and also is the founder\, and Director of the Women Leaders of Economic Development group for NEO.
X-ALT-DESC;FMTTYPE=text/html:<br />\n<span style="font-size:14px\;"><span style="font-family:arial\;"><strong><u>&#8203\;Speaker:</u>&nbsp\;Linda Barita\, Director of Strategic Alliances (MAGNET)</strong><br />\n&nbsp\;<br />\nManufacturing is the second largest private sector employer in Northeast Ohio - second only to healthcare. It&rsquo\;s important to keep on top of what keeps our region growing. Linda will cover issues that will help manufacturers grow their business - and that is good news for all of us.<br />\n&nbsp\;<br />\n&#8203\;About the Speaker: Linda Barita is the Director of Strategic Alliances for MAGNET and is an expert in business development as well as workforce\, sales\, and product management. She worked for BP Oil for 13 years\, followed by work at GrafTech for 5\, finally ending up at MAGNET for the past 9. That gives her over 25 years of industry experience ranging from positions in marketing\, sales\, product development and more.<br />\n&nbsp\;<br />\nLinda is a graduate from Youngstown State University\, is on the Board for the Cleveland Engineering Society\, Regional Board seat for Women in Manufacturing\, and also is the founder\, and Director of the Women Leaders of Economic Development group for NEO.</span></span>
LOCATION:Signature of Solon 39000 Signature Drive Solon\, OH 44139
UID:e.2230.1742
SEQUENCE:3
DTSTAMP:20260420T110358Z
URL:https://business.twinsburgchamber.com/events/details/3chamber-april-luncheon-the-state-of-manufacturing-in-neo-1742
END:VEVENT

END:VCALENDAR
