BEGIN:VCALENDAR
VERSION:2.0
PRODID:-//ChamberMaster//Event Calendar 2.0//EN
METHOD:PUBLISH
X-PUBLISHED-TTL:P3D
REFRESH-INTERVAL:P3D
CALSCALE:GREGORIAN
BEGIN:VEVENT
DTSTART:20190425T153000Z
DTEND:20190425T170000Z
X-MICROSOFT-CDO-ALLDAYEVENT:FALSE
SUMMARY:3Chamber April Luncheon - Team NEO: Regional Economic Development Udpate
DESCRIPTION:Join Twinsburg\, Solon and Aurora Chambers of Commerce as we host our April 3Chamber Luncheon featuring Team NEO for a Regional Economic Development Update.\n\n\n\nWalt Good\, Senior Director - Project Management & Site Selection and Dawn Southard\, Vice President Investor Relations will be sharing data\, stories and updates on the regional economic development landscape.\n\n\n\nTeam NEO is a business development organziation focused on creating jobs for Northeast Ohio's residents.  In collaboration with local partners\, it leads the region's business attraction efforts\, supports business retention and expansion work as Northeast Ohio's JobsOhio affiliate\, accelerates the impact of innovation in the region\, and aligns strategies and resources within the economic development network to maximize its impact.  In addition\, Team NEO provides tools to assist employers in attracting talent to the region.\n\n\n\nTeam NEO is part of the Northeast Ohio Economic Development network\, providing business decision-makers with access to customized solutions that accelerate growth\, foster innovation\, and mitigate risk through a connected and collaborative ecosystem.\n\n\n\nSPONSORED BY\n\nVMS (VISUAL MARKING SYSTEMS)
X-ALT-DESC;FMTTYPE=text/html:<br />\n<span style="font-size:14px\;"><span style="font-family:arial\;">Join Twinsburg\, Solon and Aurora&nbsp\;Chambers of Commerce as we host our April 3Chamber Luncheon<span style="color: rgb(34\, 34\, 34)\; line-height: normal\;">&nbsp\;featuring Team NEO for a Regional Economic Development Update.<br />\n<br />\nWalt Good\, Senior Director - Project Management &amp\; Site Selection and Dawn Southard\, Vice President Investor Relations will be sharing data\, stories and updates on the regional economic development landscape.<br />\n<br />\nTeam NEO is a business development organziation focused on creating jobs for Northeast Ohio&#39\;s residents.&nbsp\; In collaboration with local partners\, it leads the region&#39\;s business attraction efforts\, supports business retention and expansion work as Northeast Ohio&#39\;s JobsOhio affiliate\, accelerates the impact of innovation in the region\, and aligns strategies and resources within the economic development network to maximize its impact.&nbsp\; In addition\, Team NEO provides tools to assist employers in attracting talent to the region.<br />\n<br />\nTeam NEO is part of the Northeast Ohio Economic Development network\, providing business decision-makers with access to customized solutions that accelerate growth\, foster innovation\, and mitigate risk through a connected and collaborative ecosystem.</span></span></span><br />\n<br />\n<span style="font-size:14px\;"><span style="font-family:arial\;"><span style="font-size:16px\;"><strong><span style="color:#FF0000\;"><span style="line-height: normal\;">SPONSORED BY</span></span></strong></span></span></span><br />\n<span style="font-size:16px\;"><strong>VMS (VISUAL MARKING SYSTEMS)</strong></span>
LOCATION:Cleveland Clinic Family Health & Surgery Center 8701 Darrow Road Twinsburg\, OH 44087
UID:e.2230.2186
SEQUENCE:3
DTSTAMP:20260422T040550Z
URL:https://business.twinsburgchamber.com/events/details/3chamber-april-luncheon-featuring-ohio-attorney-general-dave-yost-2186
END:VEVENT

END:VCALENDAR
