BEGIN:VCALENDAR
VERSION:2.0
PRODID:-//ChamberMaster//Event Calendar 2.0//EN
METHOD:PUBLISH
X-PUBLISHED-TTL:P3D
REFRESH-INTERVAL:P3D
CALSCALE:GREGORIAN
BEGIN:VEVENT
DTSTART:20170126T213000Z
DTEND:20170127T003000Z
X-MICROSOFT-CDO-ALLDAYEVENT:FALSE
SUMMARY:3Chamber 2017 Women's Expo "Explore the Possibilities"!
DESCRIPTION:-SOLD OUT-\n\nBooth and Sponsorship Registration is NOW OPEN!\n\n\n\nClick here to view the Booth Diagram!\n\n\n\nDownload Registration Form \n\n\n\nMore than 80 booths featuring goods and services for women including: salons\, health practitioners\, physical therapists\, clothing boutiques\, financial services and much more! Enjoy a fun night out!\n\n\n\nInterested in becoming a vendor? Click here for more information!
X-ALT-DESC;FMTTYPE=text/html:<span style="font-size:24px\;"><strong><span style="color:#FF0000\;">&nbsp\; &nbsp\; &nbsp\; &nbsp\; &nbsp\; &nbsp\; &nbsp\; &nbsp\;<br />\n&nbsp\; &nbsp\; &nbsp\; &nbsp\; &nbsp\; &nbsp\; &nbsp\; &nbsp\; &nbsp\; &nbsp\; -SOLD OUT-</span></strong></span><br />\n<strong style="color: rgb(80\, 80\, 80)\; font-family: Arial\; font-size: 14px\; line-height: 21px\;"><font color="#800080">Booth and Sponsorship Registration is NOW OPEN!</font><br />\n<br />\n<a href="http://solonchamber.com/expo/" target="_blank">Click here to view the Booth Diagram!</a><br />\n<br />\n<a href="https://chambermaster.blob.core.windows.net/userfiles/UserFiles/chambers/2230/File/2017SponsorWomensExpoFlyerRegistration-TwinsburgFinal.pdf" target="_blank">Download Registration&nbsp\;Form&nbsp\;</a></strong><br />\n<br />\n<span style="font-family:arial\;"><span style="font-size: 14px\; line-height: 19.3199996948242px\; background-color: rgb(255\, 255\, 255)\;"><font color="#800080">More than 80 booths featuring goods and services for women including: salons\, health practitioners\, physical therapists\, clothing boutiques\, financial services and much more! Enjoy a fun night out!</font><br />\n<br />\n<font color="#800080">Interested&nbsp\;in becoming a vendor?&nbsp\;</font><a href="https://chambermaster.blob.core.windows.net/userfiles/UserFiles/chambers/2230/File/2017SponsorWomensExpoFlyerRegistration-TwinsburgFinal.pdf" target="_blank">Click here for more information!</a></span></span>
LOCATION:Twinsburg Hilton Garden Inn 8971 Wilcox Drive Twinsburg\, OH 44087
UID:e.2230.1675
SEQUENCE:3
DTSTAMP:20260420T054645Z
URL:https://business.twinsburgchamber.com/events/details/3chamber-2017-women-s-expo-explore-the-possibilities-1675
END:VEVENT

END:VCALENDAR
