BEGIN:VCALENDAR
VERSION:2.0
PRODID:-//ChamberMaster//Event Calendar 2.0//EN
METHOD:PUBLISH
X-PUBLISHED-TTL:P3D
REFRESH-INTERVAL:P3D
CALSCALE:GREGORIAN
BEGIN:VEVENT
DTSTART:20210826T153000Z
DTEND:20210826T170000Z
X-MICROSOFT-CDO-ALLDAYEVENT:FALSE
SUMMARY:3 Chamber August Luncheon featuring Congressman David Joyce
DESCRIPTION:Join Twinsburg\, Solon and Aurora Chambers of Commerce for a Luncheon with Congressman David Joyce.\n\n\n\n*No walk-ins*\n\n \n\nSponsored  by:
X-ALT-DESC;FMTTYPE=text/html:<p><br />\n<span style="font-size:14px\;"><span style="font-family:arial\;"><strong>Join Twinsburg\, Solon and Aurora Chambers of Commerce for a Luncheon with Congressman David Joyce.<br />\n<br />\n*No walk-ins*</strong></span></span><br />\n&nbsp\;<br />\n<span style="color:#FF0000\;">Sponsored&nbsp\; by:</span><br />\n&nbsp\;</p>\n
LOCATION:Signature of Solon Country Club 39000 Signature Drive Solon\, OH 44139
UID:e.2230.2470
SEQUENCE:3
DTSTAMP:20260424T082855Z
URL:https://business.twinsburgchamber.com/events/details/3-chamber-august-luncheon-featuring-congressman-david-joyce-2470
END:VEVENT

END:VCALENDAR
