BEGIN:VCALENDAR
VERSION:2.0
PRODID:-//ChamberMaster//Event Calendar 2.0//EN
METHOD:PUBLISH
X-PUBLISHED-TTL:P3D
REFRESH-INTERVAL:P3D
CALSCALE:GREGORIAN
BEGIN:VEVENT
DTSTART:20250508T150000Z
DTEND:20250508T170000Z
X-MICROSOFT-CDO-ALLDAYEVENT:FALSE
SUMMARY:2025 Twinsburg State of the Schools Address & Scholarship Luncheon
DESCRIPTION:State of the Twinsburg City School District with Kathryn Powers\, Superintendent & 2025 Scholarship Awards Ceremony
X-ALT-DESC;FMTTYPE=text/html:<span style="font-size:22px\;"><span style="color:#0000CD\;"><span style="font-weight:bold\;language:en-US\;"><span style="font-family:lucida calligraphy\;">State of the Twinsburg City School District<span style="font-size:8px\;">&nbsp\;</span></span></span><span style="font-weight:bold\;language:en-US\;"><span style="font-family:lucida calligraphy\;">with Kathryn Powers\, Superintendent &amp\; 2025 Scholarship Awards Ceremony</span></span></span></span><br />\n<br />\n&nbsp\;<br />\n<br />\n&nbsp\;
LOCATION:Twinsburg Hilton Garden Inn 8971 Wilcox Drive Twinsburg\, OH 44087
UID:e.2230.3293
SEQUENCE:3
DTSTAMP:20260421T181810Z
URL:https://business.twinsburgchamber.com/events/details/2025-twinsburg-state-of-the-schools-address-scholarship-luncheon-3293
END:VEVENT

END:VCALENDAR
