BEGIN:VCALENDAR
VERSION:2.0
PRODID:-//ChamberMaster//Event Calendar 2.0//EN
METHOD:PUBLISH
X-PUBLISHED-TTL:P3D
REFRESH-INTERVAL:P3D
CALSCALE:GREGORIAN
BEGIN:VEVENT
DTSTART:20240320T111500Z
DTEND:20240320T140000Z
X-MICROSOFT-CDO-ALLDAYEVENT:FALSE
SUMMARY:2024 State of the City Address Breakfast
DESCRIPTION:Mayor Scaffide will provide a brief 2023 State of the City report. Then\, Department Heads will share their 2023 successes and plans for continued progress in 2024 as they speak directly to you.
X-ALT-DESC;FMTTYPE=text/html:Mayor Scaffide will provide a brief 2023 State of the City report. Then\, Department Heads will share their 2023 successes and plans for continued progress in 2024 as they speak directly to you.&nbsp\;
LOCATION:Hilton Garden Inn 8971 Wilcox Drive Twinsburg\, OH 44087
UID:e.2230.3260
SEQUENCE:3
DTSTAMP:20260422T025000Z
URL:https://business.twinsburgchamber.com/events/details/2024-state-of-the-city-address-breakfast-3260
END:VEVENT

END:VCALENDAR
