BEGIN:VCALENDAR
VERSION:2.0
PRODID:-//ChamberMaster//Event Calendar 2.0//EN
METHOD:PUBLISH
X-PUBLISHED-TTL:P3D
REFRESH-INTERVAL:P3D
CALSCALE:GREGORIAN
BEGIN:VEVENT
DTSTART:20240309T140000Z
DTEND:20240309T170000Z
X-MICROSOFT-CDO-ALLDAYEVENT:FALSE
SUMMARY:2024 Community Expo & Pancake Breakfast
DESCRIPTION:What's in it for LOCAL BUSINESS?\n\n	Twinsburg Blue Ribbon Schools Committee will be hosting a pancake breakfast\, the PTA will be hosting a kids carnival\, and student entertainment at the event\n	 Gain Unlimited exposure to residents and other local businesses\n	Display current specials and promotions\n	Obtain contact information from attendees to build mailing and social media lists\n	Multi-media coverage
X-ALT-DESC;FMTTYPE=text/html:<strong><span style="color:#0000CD\;"><span style="font-family:arial\;"><span style="font-size: 14px\; line-height: 19.3199996948242px\; background-color: rgb(255\, 255\, 255)\;">What&#39\;s in it for LOCAL BUSINESS?</span></span></span></strong>\n<ul>\n	<li><span style="color: rgb(0\, 0\, 205)\; font-family: arial\; font-size: 14px\; font-weight: 700\; background-color: rgb(255\, 255\, 255)\;">Twinsburg Blue Ribbon Schools Committee will be hosting a pancake breakfast\, the PTA will be hosting a kids carnival\,&nbsp\;and student entertainment at the event</span></li>\n	<li><strong><span style="color:#0000CD\;"><span style="font-family:arial\;"><span style="font-size: 14px\; line-height: 19.3199996948242px\; background-color: rgb(255\, 255\, 255)\;">&#8203\;Gain Unlimited exposure to residents and other local businesses</span></span></span></strong></li>\n	<li><strong><span style="color:#0000CD\;"><span style="font-family:arial\;"><span style="font-size: 14px\; line-height: 19.3199996948242px\; background-color: rgb(255\, 255\, 255)\;">Display current specials and promotions</span></span></span></strong></li>\n	<li><strong><span style="color:#0000CD\;"><span style="font-family:arial\;"><span style="font-size: 14px\; line-height: 19.3199996948242px\; background-color: rgb(255\, 255\, 255)\;">Obtain contact information from attendees to build mailing and social media lists</span></span></span></strong></li>\n	<li><strong><span style="color:#0000CD\;"><span style="font-family:arial\;"><span style="font-size: 14px\; line-height: 19.3199996948242px\; background-color: rgb(255\, 255\, 255)\;">Multi-media coverage</span></span></span></strong></li>\n</ul>\n
LOCATION:Twinsburg High School -------------------------------------------------------- Register for Table Vendors
UID:e.2230.3257
SEQUENCE:3
DTSTAMP:20260422T024535Z
URL:https://business.twinsburgchamber.com/events/details/2024-community-expo-pancake-breakfast-3257
END:VEVENT

END:VCALENDAR
