BEGIN:VCALENDAR
VERSION:2.0
PRODID:-//ChamberMaster//Event Calendar 2.0//EN
METHOD:PUBLISH
X-PUBLISHED-TTL:P3D
REFRESH-INTERVAL:P3D
CALSCALE:GREGORIAN
BEGIN:VEVENT
DTSTART:20230511T150000Z
DTEND:20230511T170000Z
X-MICROSOFT-CDO-ALLDAYEVENT:FALSE
SUMMARY:2023 Twinsburg State of the Schools Address & Scholarship Luncheon
DESCRIPTION:State of the Twinsburg City School District\n\nwith Kathryn Powers\, Superintendent & 2023 Scholarship Awards Ceremony\n\n\n\n\n\nSponsored by:\n\nContributing Sponsor:
X-ALT-DESC;FMTTYPE=text/html:<span style="font-size:22px\;"><span style="color:#0000CD\;"><span style="font-weight:bold\;language:en-US\;"><span style="font-family:lucida calligraphy\;">State of the Twinsburg City School District</span></span><br>\n<span style="font-weight:bold\;language:en-US\;"><span style="font-family:lucida calligraphy\;">with Kathryn Powers\, Superintendent &amp\; 2023 Scholarship Awards Ceremony</span></span></span></span><br>\n<br>\n<br>\n<span style="font-weight:bold\;language:en-US\;"><span style="font-family:bell mt\;"><span style="font-size:18.0pt\;"><span style="color:#0000CD\;"><span style="font-size:22px\;">Sponsored by:<br>\n<span style="font-size:16px\;">Contributing Sponsor:&nbsp\;&nbsp\;</span></span></span></span></span></span><br>\n&nbsp\;<br>\n<br>\n&nbsp\;
LOCATION:Twinsburg Hilton Garden Inn 8971 Wilcox Drive Twinsburg\, OH 44087
UID:e.2230.3224
SEQUENCE:3
DTSTAMP:20260421T042347Z
URL:https://business.twinsburgchamber.com/events/details/2023-twinsburg-state-of-the-schools-address-scholarship-luncheon-3224
END:VEVENT

END:VCALENDAR
