BEGIN:VCALENDAR
VERSION:2.0
PRODID:-//ChamberMaster//Event Calendar 2.0//EN
METHOD:PUBLISH
X-PUBLISHED-TTL:P3D
REFRESH-INTERVAL:P3D
CALSCALE:GREGORIAN
BEGIN:VEVENT
DTSTART:20231214T160000Z
DTEND:20231214T180000Z
X-MICROSOFT-CDO-ALLDAYEVENT:FALSE
SUMMARY:2023 Annual Holiday Luncheon & Business of the Year Award
DESCRIPTION:Please join us as we kick off the holiday season and announce 2023's Business of the Year!\n\n\n\nEntertainment provided by Twinsburg High School's Great Expectations Show Choir!\n\n\n\nSponsored by:  PetSuites
X-ALT-DESC;FMTTYPE=text/html:<span style="font-size:16px\;"><span style="font-family:tahoma\;">Please join us as we kick off the holiday season and announce 2023&#39\;s Business of the Year!<br />\n<br />\n<strong><span style="color: rgb(204\, 0\, 0)\; font-style: italic\; line-height: 22.4px\; background-color: rgb(255\, 255\, 255)\;">Entertainment provided by Twinsburg High School&#39\;s Great Expectations Show Choir!</span></strong></span></span><br />\n<br />\n<span style="color:#008000\;"><span style="font-size:22px\;"><strong style="color: rgb(51\, 51\, 51)\; font-family: tahoma\; font-size: 16px\; background-color: rgb(255\, 255\, 255)\;"><span style="font-style: italic\; line-height: 22.4px\;">Sponsored by:&nbsp\; PetSuites</span></strong></span></span><br />\n<br />\n<br />\n&nbsp\;
LOCATION:Hilton Garden Inn 8971 Wilcox Drive Twinsburg\, OH 44087
UID:e.2230.3250
SEQUENCE:3
DTSTAMP:20260421T204914Z
URL:https://business.twinsburgchamber.com/events/details/2023-annual-holiday-luncheon-business-of-the-year-award-3250
END:VEVENT

END:VCALENDAR
