BEGIN:VCALENDAR
VERSION:2.0
PRODID:-//ChamberMaster//Event Calendar 2.0//EN
METHOD:PUBLISH
X-PUBLISHED-TTL:P3D
REFRESH-INTERVAL:P3D
CALSCALE:GREGORIAN
BEGIN:VEVENT
DTSTART:20220512T153000Z
DTEND:20220512T170000Z
X-MICROSOFT-CDO-ALLDAYEVENT:FALSE
SUMMARY:2022 Twinsburg State of the Schools Address & Scholarship Luncheon
DESCRIPTION:State of the Twinsburg City School District\n\nwith Kathryn Powers\, Superintendent & 2022 Scholarship Awards Ceremony\n\nSuperintendent Powers will give an overview summary of the District's continued response to the pandemic and other important accomplishments\, as well as a look ahead at the 2022-2023 school year.  \n\n\n\nSponsored by Kent State University Twinsburg Academic Center\n\nContributing Sponsor:  New Adventures Early Learning & Child Development Center
X-ALT-DESC;FMTTYPE=text/html:<span style="font-size:22px\;"><span style="color:#0000CD\;"><span style="font-weight:bold\;language:en-US\;"><span style="font-family:lucida calligraphy\;">State of the Twinsburg City School District</span></span><br />\n<span style="font-weight:bold\;language:en-US\;"><span style="font-family:lucida calligraphy\;">with Kathryn Powers\, Superintendent &amp\; 2022 Scholarship Awards Ceremony</span></span></span></span><br />\n<span style="font-size:16px\;"><span style="font-family:arial\;">Superintendent Powers will give an<span style="color: rgb(51\, 51\, 51)\; background-color: rgb(255\, 255\, 255)\;">&nbsp\;overview summary of the District&#39\;s continued response to the pandemic and other important accomplishments\, as well as a look ahead at the 2022-2023 school year.&nbsp\;&nbsp\;</span></span></span><br />\n<br />\n<span style="font-weight:bold\;language:en-US\;"><span style="font-family:bell mt\;"><span style="font-size:18.0pt\;"><span style="color:#0000CD\;"><span style="font-size:22px\;">Sponsored by Kent State University Twinsburg Academic Center<br />\n<span style="font-size:16px\;">Contributing Sponsor:&nbsp\; New Adventures Early Learning &amp\; Child Development Center</span></span></span></span></span></span><br />\n&nbsp\;<br />\n<br />\n&nbsp\;
LOCATION:Twinsburg Hilton Garden Inn 8971 Wilcox Drive Twinsburg\, OH 44087
UID:e.2230.3172
SEQUENCE:3
DTSTAMP:20260420T060033Z
URL:https://business.twinsburgchamber.com/events/details/2022-twinsburg-state-of-the-schools-address-scholarship-luncheon-3172
END:VEVENT

END:VCALENDAR
