BEGIN:VCALENDAR
VERSION:2.0
PRODID:-//ChamberMaster//Event Calendar 2.0//EN
METHOD:PUBLISH
X-PUBLISHED-TTL:P3D
REFRESH-INTERVAL:P3D
CALSCALE:GREGORIAN
BEGIN:VEVENT
DTSTART:20220407T113000Z
DTEND:20220407T131500Z
X-MICROSOFT-CDO-ALLDAYEVENT:FALSE
SUMMARY:2022 State of the City Address with Mayor Ted Yates-Breakfast
DESCRIPTION:Mayor Yates is entering his 7th year in office. Today he will be discussing the challenges that Twinsburg faced throughout 2021 and the City's outlook for 2022.
X-ALT-DESC;FMTTYPE=text/html:<span style="font-family:tahoma\;"><span style="font-size:12.0pt\;">Mayor Yates is entering his 7<sup>th</sup> year in office. Today he will be discussing the challenges that Twinsburg faced throughout 2021 and the City&rsquo\;s outlook for 2022.</span></span>
LOCATION:Aaron & Moses 2615 Glenwood Dr Twinsburg\, OH 44087
UID:e.2230.3140
SEQUENCE:3
DTSTAMP:20260424T095536Z
URL:https://business.twinsburgchamber.com/events/details/2022-state-of-the-city-address-with-mayor-ted-yates-breakfast-3140
END:VEVENT

END:VCALENDAR
