BEGIN:VCALENDAR
VERSION:2.0
PRODID:-//ChamberMaster//Event Calendar 2.0//EN
METHOD:PUBLISH
X-PUBLISHED-TTL:P3D
REFRESH-INTERVAL:P3D
CALSCALE:GREGORIAN
BEGIN:VEVENT
DTSTART:20220423T130000Z
DTEND:20220423T160000Z
X-MICROSOFT-CDO-ALLDAYEVENT:FALSE
SUMMARY:2022 Community Expo
DESCRIPTION:IT'S BAAAAACK!!!\n\n\n\nBooth and Sponsorship Registration is NOW OPEN!\n\n\n\nWhat's in it for LOCAL BUSINESS?\n\n	Twinsburg Blue Ribbon Schools Committee will be hosting a pancake breakfast\, the PTA will be hosting a kids carnival\, and student entertainment at the event\n	 Gain Unlimited exposure to residents and other local businesses\n	Display current specials and promotions\n	Obtain contact information from attendees to build mailing and social media lists\n	Multi-media coverage
X-ALT-DESC;FMTTYPE=text/html:<strong><span style="font-size:26px\;">IT&#39\;S BAAAAACK!!!</span></strong><br />\n<br />\n<strong><strong style="color: rgb(80\, 80\, 80)\; font-family: Arial\; font-size: 14px\; line-height: 21px\;"><span style="font-size:16px\;"><span style="color:#FF0000\;">Booth and Sponsorship Registration is NOW OPEN!</span></span></strong></strong><br />\n<br />\n<strong><span style="color:#0000CD\;"><span style="font-family:arial\;"><span style="font-size: 14px\; line-height: 19.3199996948242px\; background-color: rgb(255\, 255\, 255)\;">What&#39\;s in it for LOCAL BUSINESS?</span></span></span></strong>\n<ul>\n	<li><span style="color: rgb(0\, 0\, 205)\; font-family: arial\; font-size: 14px\; font-weight: 700\; background-color: rgb(255\, 255\, 255)\;">Twinsburg Blue Ribbon Schools Committee will be hosting a pancake breakfast\, the PTA will be hosting a kids carnival\,&nbsp\;and student entertainment at the event</span></li>\n	<li><strong><span style="color:#0000CD\;"><span style="font-family:arial\;"><span style="font-size: 14px\; line-height: 19.3199996948242px\; background-color: rgb(255\, 255\, 255)\;">&#8203\;Gain Unlimited exposure to residents and other local businesses</span></span></span></strong></li>\n	<li><strong><span style="color:#0000CD\;"><span style="font-family:arial\;"><span style="font-size: 14px\; line-height: 19.3199996948242px\; background-color: rgb(255\, 255\, 255)\;">Display current specials and promotions</span></span></span></strong></li>\n	<li><strong><span style="color:#0000CD\;"><span style="font-family:arial\;"><span style="font-size: 14px\; line-height: 19.3199996948242px\; background-color: rgb(255\, 255\, 255)\;">Obtain contact information from attendees to build mailing and social media lists</span></span></span></strong></li>\n	<li><strong><span style="color:#0000CD\;"><span style="font-family:arial\;"><span style="font-size: 14px\; line-height: 19.3199996948242px\; background-color: rgb(255\, 255\, 255)\;">Multi-media coverage</span></span></span></strong></li>\n</ul>\n
LOCATION:George G. Dodge Intermediate School
UID:e.2230.3177
SEQUENCE:3
DTSTAMP:20260420T035849Z
URL:https://business.twinsburgchamber.com/events/details/2022-community-expo-3177
END:VEVENT

END:VCALENDAR
