BEGIN:VCALENDAR
VERSION:2.0
PRODID:-//ChamberMaster//Event Calendar 2.0//EN
METHOD:PUBLISH
X-PUBLISHED-TTL:P3D
REFRESH-INTERVAL:P3D
CALSCALE:GREGORIAN
BEGIN:VEVENT
DTSTART:20200220T230000Z
DTEND:20200221T010000Z
X-MICROSOFT-CDO-ALLDAYEVENT:FALSE
SUMMARY:2020 State of the City Address with Mayor Ted Yates\, City of Twinsburg
DESCRIPTION:Re-elected last fall\, Mayor Yates is entering his second four year term.  Mayor Yates will discuss accomplishments of 2019 and his vision for the future of the City in the new decade.\n\n\n\nREGISTER HERE
X-ALT-DESC;FMTTYPE=text/html:Re-elected last fall\, Mayor Yates is entering his second four year term.&nbsp\; Mayor Yates will discuss accomplishments of 2019 and his vision for the future of the City in the new decade.<br />\n<br />\n<span style="font-size:18px\;"><a href="https://www.mytwinsburg.com/FormCenter/Event-Registration-5/2020-State-of-the-City-Registration-48?fbclid=IwAR2UmXJuIknl1s3jL-cXGMW6a9iVYAgvj7Qph6Ge0Ksacj4eyuNCsULpESA"><span style="color:#FF0000\;"><strong>REGISTER HERE</strong></span></a></span>
LOCATION:Gleneagles Golf Club & Events 2615 Glenwood Dr Twinsburg\, OH 44087
UID:e.2230.2220
SEQUENCE:3
DTSTAMP:20260422T231525Z
URL:https://business.twinsburgchamber.com/events/details/2020-state-of-the-city-address-with-mayor-ted-yates-city-of-twinsburg-2220
END:VEVENT

END:VCALENDAR
