BEGIN:VCALENDAR
VERSION:2.0
PRODID:-//ChamberMaster//Event Calendar 2.0//EN
METHOD:PUBLISH
X-PUBLISHED-TTL:P3D
REFRESH-INTERVAL:P3D
CALSCALE:GREGORIAN
BEGIN:VEVENT
DTSTART:20201005T160000Z
DTEND:20201005T170000Z
X-MICROSOFT-CDO-ALLDAYEVENT:FALSE
SUMMARY:2020 Fall Financial Education Series "Understanding Social Security"
DESCRIPTION:"Understanding Social Security" Join Certified Financial Planner Professional\, Angelo V. Carcioppolo\, for a series of courses designed to cover the important topics of financial planning that face us today.
X-ALT-DESC;FMTTYPE=text/html:&quot\;Understanding Social Security&quot\; Join Certified Financial Planner Professional\, Angelo V. Carcioppolo\, for a series of courses designed to cover the important topics of financial planning that face us today.
LOCATION:This is a Virtual session\, and will take place via ZOOM To Register\, please RSVP to ACarcioppolo@Financialguide.com You'll receive a private invitation link to participate.
UID:e.2230.2352
SEQUENCE:3
DTSTAMP:20260425T192656Z
URL:https://business.twinsburgchamber.com/events/details/2020-fall-financial-education-series-understanding-social-security-2352
END:VEVENT

END:VCALENDAR
