BEGIN:VCALENDAR
VERSION:2.0
PRODID:-//ChamberMaster//Event Calendar 2.0//EN
METHOD:PUBLISH
X-PUBLISHED-TTL:P3D
REFRESH-INTERVAL:P3D
CALSCALE:GREGORIAN
BEGIN:VEVENT
DTSTART:20190309T140000Z
DTEND:20190309T180000Z
X-MICROSOFT-CDO-ALLDAYEVENT:FALSE
SUMMARY:2019 Twinsburg In Search of Show...Community Expo
DESCRIPTION:Booth and Sponsorship Registration is NOW OPEN!\n\n\n\nClick here to view the Booth Diagram!\n\n\n\nDownload Booth & Sponsorship Registration Form \n\n\n\nWhat's in it for LOCAL BUSINESS?\n\n	 Gain Unlimited exposure to residents and other local businesses\n	Display current specials and promotions\n	Obtain contact information from attendees to build mailing and social media lists\n	Listing in event program that every attendee will receive\n	Multi-media coverage\n	Twinsburg Blue Ribbon Schools Committee will be hosting a pancake breakfast and providing student entertainment at the event
X-ALT-DESC;FMTTYPE=text/html:<br />\n<strong><strong style="color: rgb(80\, 80\, 80)\; font-family: Arial\; font-size: 14px\; line-height: 21px\;"><span style="color:#FF0000\;">Booth and Sponsorship Registration is NOW OPEN!</span><br />\n<br />\n<a href="https://chambermaster.blob.core.windows.net/userfiles/UserFiles/chambers/2230/File/2019ExpoMapasof2-11-19.pdf"><span style="color:#FF0000\;">Click here to view the Booth Diagram!</span></a><br />\n<br />\n<a href="https://chambermaster.blob.core.windows.net/userfiles/UserFiles/chambers/2230/File/2019TwinsburgExpoSponsorVendorFormasof2-11-19.pdf"><span style="color:#FF0000\;">Download Booth &amp\; Sponsorship Registration&nbsp\;Form</span>&nbsp\;</a></strong></strong><br />\n<br />\n<strong><span style="color:#0000CD\;"><span style="font-family:arial\;"><span style="font-size: 14px\; line-height: 19.3199996948242px\; background-color: rgb(255\, 255\, 255)\;">What&#39\;s in it for LOCAL BUSINESS?</span></span></span></strong>\n<ul>\n	<li><strong><span style="color:#0000CD\;"><span style="font-family:arial\;"><span style="font-size: 14px\; line-height: 19.3199996948242px\; background-color: rgb(255\, 255\, 255)\;">&#8203\;Gain Unlimited exposure to residents and other local businesses</span></span></span></strong></li>\n	<li><strong><span style="color:#0000CD\;"><span style="font-family:arial\;"><span style="font-size: 14px\; line-height: 19.3199996948242px\; background-color: rgb(255\, 255\, 255)\;">Display current specials and promotions</span></span></span></strong></li>\n	<li><strong><span style="color:#0000CD\;"><span style="font-family:arial\;"><span style="font-size: 14px\; line-height: 19.3199996948242px\; background-color: rgb(255\, 255\, 255)\;">Obtain contact information from attendees to build mailing and social media lists</span></span></span></strong></li>\n	<li><strong><span style="color:#0000CD\;"><span style="font-family:arial\;"><span style="font-size: 14px\; line-height: 19.3199996948242px\; background-color: rgb(255\, 255\, 255)\;">Listing in event program that every attendee will receive</span></span></span></strong></li>\n	<li><strong><span style="color:#0000CD\;"><span style="font-family:arial\;"><span style="font-size: 14px\; line-height: 19.3199996948242px\; background-color: rgb(255\, 255\, 255)\;">Multi-media coverage</span></span></span></strong></li>\n	<li><strong><span style="color:#0000CD\;"><span style="font-family:arial\;"><span style="font-size: 14px\; line-height: 19.3199996948242px\; background-color: rgb(255\, 255\, 255)\;">Twinsburg Blue Ribbon Schools Committee will be hosting a pancake breakfast and providing student entertainment at the event</span></span></span></strong></li>\n</ul>\n<br />\n<br />\n&nbsp\;
LOCATION:Twinsburg High School 10084 Ravenna Rd Twinsburg\, OH 44087
UID:e.2230.2176
SEQUENCE:3
DTSTAMP:20260422T020525Z
URL:https://business.twinsburgchamber.com/events/details/2019-twinsburg-in-search-of-show-community-expo-2176
END:VEVENT

END:VCALENDAR
