BEGIN:VCALENDAR
VERSION:2.0
PRODID:-//ChamberMaster//Event Calendar 2.0//EN
METHOD:PUBLISH
X-PUBLISHED-TTL:P3D
REFRESH-INTERVAL:P3D
CALSCALE:GREGORIAN
BEGIN:VEVENT
DTSTART:20190214T123000Z
DTEND:20190214T141500Z
X-MICROSOFT-CDO-ALLDAYEVENT:FALSE
SUMMARY:2019 State of the City Address with Mayor Ted Yates\, City of Twinsburg
DESCRIPTION:Entering his fourth year in office\, Mayor Yates will discuss accomplishments of 2018 and his vision for the future of the City.
X-ALT-DESC;FMTTYPE=text/html:Entering his fourth year in office\, Mayor Yates will discuss accomplishments of 2018 and his vision for the future of the City.&nbsp\;&nbsp\;
LOCATION:Gleneagles Golf Club & Events 2615 Glenwood Dr Twinsburg\, OH 44087
UID:e.2230.2149
SEQUENCE:3
DTSTAMP:20260422T020450Z
URL:https://business.twinsburgchamber.com/events/details/2019-state-of-the-city-address-with-mayor-ted-yates-city-of-twinsburg-2149
END:VEVENT

END:VCALENDAR
