BEGIN:VCALENDAR
VERSION:2.0
PRODID:-//ChamberMaster//Event Calendar 2.0//EN
METHOD:PUBLISH
X-PUBLISHED-TTL:P3D
REFRESH-INTERVAL:P3D
CALSCALE:GREGORIAN
BEGIN:VEVENT
DTSTART;VALUE=DATE:20181015
DTEND;VALUE=DATE:20181113
TRANSP:TRANSPARENT
X-MICROSOFT-CDO-ALLDAYEVENT:TRUE
SUMMARY:2018 Business Person the Year Nominations
DESCRIPTION:DOWNLOAD NOMINATION FORM \n\n\n\nThe Twinsburg Chamber of Commerce is accepting nominations for the 46th Annual Twinsburg Business Person of the Year award. This honor recognizes a Twinsburg business person who has made an outstanding contribution to their business and the Twinsburg community\, making it a better place to work\, visit and live.   Criteria nominees will be evaluated on include:  \n\n\n	Leadership contribution to their business in terms of growth and prominence in their field\;\n	Exceeding expectations in business and community undertakings\; and \n	Participates in corporate social responsibility within the community.\n\n                                                            \n\n\n	\n		\n			\n			Nominations must be received by close of business on Monday\, November 12\, 2018. \n\n			\n\n			Nominations should be sent to:\n\n			Megann Eberhart\, Executive Director\, Twinsburg Chamber of Commerce \n\n			Email: meberhart@twinsburgchamber.com\n\n			Fax (330) 963-6995\n\n			Questions call (330) 963-6249\n\n			 \n			\n		\n	\n\n\n\n\nThe award will be presented at our Annual Holiday & Business Person of the Year luncheon on Thursday\, December 13\, 2018 at the Twinsburg Hilton Garden Inn.
X-ALT-DESC;FMTTYPE=text/html:<h3 class="h3" style="color: rgb(128\, 0\, 0)\; font-family: Georgia\; font-size: 16px\; line-height: 16px\; margin: 0px 0px 10px\;"><a href="https://chambermaster.blob.core.windows.net/userfiles/UserFiles/chambers/2230/File/BusinessPersonoftheYear2018NominationForm.pdf"><span style="color:#FF0000\;">DOWNLOAD NOMINATION FORM&nbsp\;</span></a><br />\n<br />\n<span style="font-size:16px\;"><span style="font-family:arial\;"><strong><span style="color:#000000\;">The Twinsburg Chamber of Commerce is accepting nominations for the <em>46<sup>th</sup> Annual Twinsburg Business Person of the Year award</em>. This honor recognizes a Twinsburg business person who has made an outstanding contribution to their business and the Twinsburg community\, making it a better place to work\, visit and live. &nbsp\;&nbsp\;Criteria nominees will be evaluated on include: &nbsp\;</span></strong></span></span></h3>\n\n<ul>\n	<li style="margin-bottom:0in\;margin-bottom:.0001pt\;"><span style="font-size:16px\;"><span style="font-family:arial\;"><strong><span style="color:#000000\;">Leadership contribution to their business in terms of growth and prominence in their field\;</span></strong></span></span></li>\n	<li style="margin-top:0in\;margin-right:27.0pt\;margin-bottom:0in\;margin-bottom:.0001pt\;"><span style="font-size:16px\;"><span style="font-family:arial\;"><strong><span style="color:#000000\;">Exceeding expectations in business and community undertakings\; and </span></strong></span></span></li>\n	<li style="margin-bottom:0in\;margin-bottom:.0001pt\;"><span style="font-size:16px\;"><span style="font-family:arial\;"><strong><span style="color:#000000\;">Participates in corporate social responsibility within the community.</span></strong></span></span></li>\n</ul>\n<span style="font-family:arial\,sans-serif\;"><span style="font-size:11.0pt\;">&nbsp\;&nbsp\;&nbsp\;&nbsp\;&nbsp\;&nbsp\;&nbsp\;&nbsp\;&nbsp\;&nbsp\;&nbsp\;&nbsp\;&nbsp\;&nbsp\;&nbsp\;&nbsp\;&nbsp\;&nbsp\;&nbsp\;&nbsp\;&nbsp\;&nbsp\;&nbsp\;&nbsp\;&nbsp\;&nbsp\;&nbsp\;&nbsp\;&nbsp\;&nbsp\;&nbsp\;&nbsp\;&nbsp\;&nbsp\;&nbsp\;&nbsp\;&nbsp\;&nbsp\;&nbsp\;&nbsp\;&nbsp\;&nbsp\;&nbsp\;&nbsp\;&nbsp\;&nbsp\;&nbsp\;&nbsp\;&nbsp\;&nbsp\;&nbsp\;&nbsp\;&nbsp\; &nbsp\;&nbsp\;&nbsp\;&nbsp\;&nbsp\; </span></span>\n\n<table cellpadding="0" cellspacing="0" width="100%">\n	<tbody>\n		<tr>\n			<td>\n			<div><span style="color:#FF0000\;"><strong><span style="font-family:arial\,sans-serif\;"><span style="font-size:11.0pt\;">Nominations must be received by close of business on Monday\, November 12\, 2018. </span></span></strong></span><br />\n			<br />\n			<span style="font-family:arial\,sans-serif\;"><span style="font-size:11.0pt\;">Nominations should be sent to:<br />\n			Megann Eberhart\, Executive Director\, Twinsburg Chamber of Commerce&nbsp\;<br />\n			Email: </span></span><span style="font-family:arial\,sans-serif\;"><span style="font-size:11.0pt\;"><a href="mailto:meberhart@twinsburgchamber.com">meberhart@twinsburgchamber.com</a></span></span><br />\n			<span style="font-family:arial\,sans-serif\;"><span style="font-size:11.0pt\;">Fax (330) 963-6995<br />\n			Questions call (330) 963-6249</span></span><br />\n			&nbsp\;</div>\n			</td>\n		</tr>\n	</tbody>\n</table>\n\n<h3 class="h3" style="color: rgb(128\, 0\, 0)\; font-family: Georgia\; font-size: 16px\; line-height: 16px\; margin: 0px 0px 10px\;"><br clear="ALL" />\n<span style="font-size:16px\;"><span style="color:#800080\;"><strong><span style="font-family:arial\,sans-serif\;">The award will be presented at our Annual Holiday &amp\; Business Person of the Year luncheon on Thursday\, December 13\, 2018 at the Twinsburg Hilton Garden Inn.</span></strong></span></span><br />\n&nbsp\;</h3>\n
LOCATION:
UID:e.2230.2057
SEQUENCE:3
DTSTAMP:20260421T170421Z
URL:https://business.twinsburgchamber.com/events/details/2018-business-person-the-year-nominations-2057
END:VEVENT

END:VCALENDAR
