BEGIN:VCALENDAR
VERSION:2.0
PRODID:-//ChamberMaster//Event Calendar 2.0//EN
METHOD:PUBLISH
X-PUBLISHED-TTL:P3D
REFRESH-INTERVAL:P3D
CALSCALE:GREGORIAN
BEGIN:VEVENT
DTSTART:20160511T200000Z
DTEND:20160511T230000Z
X-MICROSOFT-CDO-ALLDAYEVENT:FALSE
SUMMARY:2016 NEO Business Show Presented by Rock The House in collaboration with the Twinsburg\, Solon\, Aurora\, Chagrin Valley Chambers of Commerce
DESCRIPTION:Become a vendor or sponsor today! \n\n\n\nAre you looking to connect with businesses and generate leads? Are you looking to enhance the quality of your business to achieve optimal results?\n\nSave the Date! The Twinsburg\, Solon\, Aurora and Chagrin Valley Chambers of Commerce proudly present 2016 NEO Business Show with Rock the House on May 11th at Signature of Solon! Vendor & Sponsor registration is NOW OPEN!
X-ALT-DESC;FMTTYPE=text/html:<p style="margin: 0px 0px 6px\; color: rgb(20\, 24\, 35)\; font-family: Helvetica\, Arial\, 'lucida grande'\, tahoma\, verdana\, arial\, sans-serif\; font-size: 14px\; line-height: 19.3199996948242px\;"><span style="font-size:18px\;"><strong>&nbsp\; &nbsp\; &nbsp\; &nbsp\; &nbsp\; &nbsp\;&nbsp\;<br />\n&nbsp\; &nbsp\; &nbsp\; &nbsp\; &nbsp\; &nbsp\; &nbsp\;<a href="https://chambermaster.blob.core.windows.net/userfiles/UserFiles/chambers/2230/File/2016B2BRegistrationFormv.2TwinsburgFINAL.pdf" target="_blank">Become a vendor or sponsor today!&nbsp\;</a></strong></span><br />\n<br />\n<span style="font-family:arial\;">Are you looking to connect with businesses and generate leads? Are you looking to enhance the quality of your business to achieve optimal results?</span></p>\n\n<p style="margin: 6px 0px 0px\; display: inline\; color: rgb(20\, 24\, 35)\; font-family: Helvetica\, Arial\, 'lucida grande'\, tahoma\, verdana\, arial\, sans-serif\; font-size: 14px\; line-height: 19.3199996948242px\;"><span style="font-family:arial\;"><span style="color:#FF8C00\;"><strong>Save the Date!</strong> </span>The Twinsburg\, Solon\,&nbsp\;Aurora and Chagrin Valley Chambers of Commerce proudly present 2016 NEO Business Show with <a href="http://rthgroup.com/" target="_blank">Rock the&nbsp\;House</a>&nbsp\;on May 11th at Signature of Solon! <a href="https://chambermaster.blob.core.windows.net/userfiles/UserFiles/chambers/2230/File/2016B2BRegistrationFormv.2TwinsburgFINAL.pdf" target="_blank">Vendor &amp\; Sponsor registration is NOW OPEN!</a></span></p>\n
LOCATION:Signature of Solon 39000 Signature Drive Solon\, OH 44139
UID:e.2230.356
SEQUENCE:3
DTSTAMP:20260419T154356Z
URL:https://business.twinsburgchamber.com/events/details/2016-neo-business-show-presented-by-rock-the-house-in-collaboration-with-the-twinsburg-solon-aurora-chagrin-valley-chambers-of-commerce-05-11-2016-356
END:VEVENT

END:VCALENDAR
